BEGIN:VCALENDAR
VERSION:2.0
PRODID:-//Chugach - ECPv6.14.2//NONSGML v1.0//EN
CALSCALE:GREGORIAN
METHOD:PUBLISH
X-WR-CALNAME:Chugach
X-ORIGINAL-URL:https://chugach.uat.nmu.digital
X-WR-CALDESC:Events for Chugach
REFRESH-INTERVAL;VALUE=DURATION:PT1H
X-Robots-Tag:noindex
X-PUBLISHED-TTL:PT1H
BEGIN:VTIMEZONE
TZID:UTC
BEGIN:STANDARD
TZOFFSETFROM:+0000
TZOFFSETTO:+0000
TZNAME:UTC
DTSTART:20250101T000000
END:STANDARD
END:VTIMEZONE
BEGIN:VEVENT
DTSTART;TZID=UTC:20250508T100000
DTEND;TZID=UTC:20250508T180000
DTSTAMP:20260423T020626
CREATED:20250806T175530Z
LAST-MODIFIED:20250826T022826Z
UID:869-1746698400-1746727200@chugach.uat.nmu.digital
SUMMARY:RIVIERA
DESCRIPTION:
URL:https://chugach.uat.nmu.digital/event/wht-riviera/
END:VEVENT
BEGIN:VEVENT
DTSTART;TZID=UTC:20250508T113000
DTEND;TZID=UTC:20250508T193000
DTSTAMP:20260423T020626
CREATED:20250806T175530Z
LAST-MODIFIED:20250826T022827Z
UID:870-1746703800-1746732600@chugach.uat.nmu.digital
SUMMARY:SEVEN SEAS EXPLORER
DESCRIPTION:
URL:https://chugach.uat.nmu.digital/event/wht-seven-seas-explorer/
END:VEVENT
BEGIN:VEVENT
DTSTART;TZID=UTC:20250512T050000
DTEND;TZID=UTC:20250512T190000
DTSTAMP:20260423T020626
CREATED:20250806T175530Z
LAST-MODIFIED:20250826T022828Z
UID:871-1747026000-1747076400@chugach.uat.nmu.digital
SUMMARY:NORWEGIAN JADE
DESCRIPTION:
URL:https://chugach.uat.nmu.digital/event/wht-norwegian-jade-2/
END:VEVENT
BEGIN:VEVENT
DTSTART;TZID=UTC:20250512T060000
DTEND;TZID=UTC:20250512T170000
DTSTAMP:20260423T020626
CREATED:20250826T005151Z
LAST-MODIFIED:20250826T022834Z
UID:1364-1747029600-1747069200@chugach.uat.nmu.digital
SUMMARY:SEVEN SEAS EXPLORER
DESCRIPTION:
URL:https://chugach.uat.nmu.digital/event/seven-seas-explorer-5/
END:VEVENT
BEGIN:VEVENT
DTSTART;TZID=UTC:20250517T003000
DTEND;TZID=UTC:20250517T203000
DTSTAMP:20260423T020626
CREATED:20250806T175530Z
LAST-MODIFIED:20250826T022828Z
UID:872-1747441800-1747513800@chugach.uat.nmu.digital
SUMMARY:CARIBBEAN PRINCESS
DESCRIPTION:
URL:https://chugach.uat.nmu.digital/event/wht-caribbean-princess/
END:VEVENT
BEGIN:VEVENT
DTSTART;TZID=UTC:20250518T010000
DTEND;TZID=UTC:20250518T193000
DTSTAMP:20260423T020626
CREATED:20250806T175532Z
LAST-MODIFIED:20250826T022832Z
UID:873-1747530000-1747596600@chugach.uat.nmu.digital
SUMMARY:NOORDAM
DESCRIPTION:
URL:https://chugach.uat.nmu.digital/event/wht-noordam/
END:VEVENT
BEGIN:VEVENT
DTSTART;TZID=UTC:20250521T003000
DTEND;TZID=UTC:20250521T203000
DTSTAMP:20260423T020626
CREATED:20250806T175532Z
LAST-MODIFIED:20250826T022832Z
UID:874-1747787400-1747859400@chugach.uat.nmu.digital
SUMMARY:CORAL PRINCESS
DESCRIPTION:
URL:https://chugach.uat.nmu.digital/event/wht-coral-princess/
END:VEVENT
BEGIN:VEVENT
DTSTART;TZID=UTC:20250521T040000
DTEND;TZID=UTC:20250521T180000
DTSTAMP:20260423T020626
CREATED:20250806T175532Z
LAST-MODIFIED:20250826T022833Z
UID:875-1747800000-1747850400@chugach.uat.nmu.digital
SUMMARY:RIVIERA
DESCRIPTION:
URL:https://chugach.uat.nmu.digital/event/wht-riviera-2/
END:VEVENT
BEGIN:VEVENT
DTSTART;TZID=UTC:20250525T003000
DTEND;TZID=UTC:20250525T203000
DTSTAMP:20260423T020626
CREATED:20250826T022835Z
LAST-MODIFIED:20250826T022835Z
UID:1369-1748133000-1748205000@chugach.uat.nmu.digital
SUMMARY:SAPPHIRE PRINCESS
DESCRIPTION:
URL:https://chugach.uat.nmu.digital/event/sapphire-princess-4/
END:VEVENT
END:VCALENDAR