BEGIN:VCALENDAR
VERSION:2.0
PRODID:-//Chugach - ECPv6.14.2//NONSGML v1.0//EN
CALSCALE:GREGORIAN
METHOD:PUBLISH
X-WR-CALNAME:Chugach
X-ORIGINAL-URL:https://chugach.uat.nmu.digital
X-WR-CALDESC:Events for Chugach
REFRESH-INTERVAL;VALUE=DURATION:PT1H
X-Robots-Tag:noindex
X-PUBLISHED-TTL:PT1H
BEGIN:VTIMEZONE
TZID:UTC
BEGIN:STANDARD
TZOFFSETFROM:+0000
TZOFFSETTO:+0000
TZNAME:UTC
DTSTART:20250101T000000
END:STANDARD
END:VTIMEZONE
BEGIN:VEVENT
DTSTART;TZID=UTC:20250702T003000
DTEND;TZID=UTC:20250702T203000
DTSTAMP:20260422T224318
CREATED:20250806T175630Z
LAST-MODIFIED:20250826T022934Z
UID:899-1751416200-1751488200@chugach.uat.nmu.digital
SUMMARY:CORAL PRINCESS
DESCRIPTION:
URL:https://chugach.uat.nmu.digital/event/wht-coral-princess-4/
END:VEVENT
BEGIN:VEVENT
DTSTART;TZID=UTC:20250702T060000
DTEND;TZID=UTC:20250702T170000
DTSTAMP:20260422T224318
CREATED:20250806T175630Z
LAST-MODIFIED:20250826T022934Z
UID:900-1751436000-1751475600@chugach.uat.nmu.digital
SUMMARY:SEVEN SEAS EXPLORER
DESCRIPTION:
URL:https://chugach.uat.nmu.digital/event/wht-seven-seas-explorer-5/
END:VEVENT
BEGIN:VEVENT
DTSTART;TZID=UTC:20250705T003000
DTEND;TZID=UTC:20250705T203000
DTSTAMP:20260422T224318
CREATED:20250806T175630Z
LAST-MODIFIED:20250826T022935Z
UID:901-1751675400-1751747400@chugach.uat.nmu.digital
SUMMARY:SAPPHIRE PRINCESS
DESCRIPTION:
URL:https://chugach.uat.nmu.digital/event/wht-sapphire-princess-4/
END:VEVENT
BEGIN:VEVENT
DTSTART;TZID=UTC:20250706T010000
DTEND;TZID=UTC:20250706T193000
DTSTAMP:20260422T224318
CREATED:20250806T175630Z
LAST-MODIFIED:20250826T022935Z
UID:902-1751763600-1751830200@chugach.uat.nmu.digital
SUMMARY:NIEUW AMSTERDAM
DESCRIPTION:
URL:https://chugach.uat.nmu.digital/event/wht-nieuw-amsterdam-3/
END:VEVENT
BEGIN:VEVENT
DTSTART;TZID=UTC:20250707T050000
DTEND;TZID=UTC:20250707T190000
DTSTAMP:20260422T224318
CREATED:20250806T175633Z
LAST-MODIFIED:20250826T022948Z
UID:903-1751864400-1751914800@chugach.uat.nmu.digital
SUMMARY:NORWEGIAN JADE
DESCRIPTION:
URL:https://chugach.uat.nmu.digital/event/wht-norwegian-jade-5/
END:VEVENT
BEGIN:VEVENT
DTSTART;TZID=UTC:20250712T003000
DTEND;TZID=UTC:20250712T203000
DTSTAMP:20260422T224318
CREATED:20250806T175634Z
LAST-MODIFIED:20250826T022949Z
UID:904-1752280200-1752352200@chugach.uat.nmu.digital
SUMMARY:CARIBBEAN PRINCESS
DESCRIPTION:
URL:https://chugach.uat.nmu.digital/event/wht-caribbean-princess-4/
END:VEVENT
BEGIN:VEVENT
DTSTART;TZID=UTC:20250713T010000
DTEND;TZID=UTC:20250713T193000
DTSTAMP:20260422T224318
CREATED:20250806T175634Z
LAST-MODIFIED:20250826T022949Z
UID:905-1752368400-1752435000@chugach.uat.nmu.digital
SUMMARY:NOORDAM
DESCRIPTION:
URL:https://chugach.uat.nmu.digital/event/wht-noordam-4/
END:VEVENT
BEGIN:VEVENT
DTSTART;TZID=UTC:20250716T003000
DTEND;TZID=UTC:20250716T203000
DTSTAMP:20260422T224318
CREATED:20250806T175634Z
LAST-MODIFIED:20250826T022950Z
UID:906-1752625800-1752697800@chugach.uat.nmu.digital
SUMMARY:CORAL PRINCESS
DESCRIPTION:
URL:https://chugach.uat.nmu.digital/event/wht-coral-princess-5/
END:VEVENT
BEGIN:VEVENT
DTSTART;TZID=UTC:20250716T060000
DTEND;TZID=UTC:20250716T170000
DTSTAMP:20260422T224318
CREATED:20250806T175634Z
LAST-MODIFIED:20250826T022950Z
UID:907-1752645600-1752685200@chugach.uat.nmu.digital
SUMMARY:SEVEN SEAS EXPLORER
DESCRIPTION:
URL:https://chugach.uat.nmu.digital/event/wht-seven-seas-explorer-6/
END:VEVENT
BEGIN:VEVENT
DTSTART;TZID=UTC:20250719T003000
DTEND;TZID=UTC:20250719T203000
DTSTAMP:20260422T224318
CREATED:20250806T175642Z
LAST-MODIFIED:20250826T023003Z
UID:908-1752885000-1752957000@chugach.uat.nmu.digital
SUMMARY:SAPPHIRE PRINCESS
DESCRIPTION:
URL:https://chugach.uat.nmu.digital/event/wht-sapphire-princess-5/
END:VEVENT
BEGIN:VEVENT
DTSTART;TZID=UTC:20250720T010000
DTEND;TZID=UTC:20250720T193000
DTSTAMP:20260422T224318
CREATED:20250806T175642Z
LAST-MODIFIED:20250826T023004Z
UID:909-1752973200-1753039800@chugach.uat.nmu.digital
SUMMARY:NIEUW AMSTERDAM
DESCRIPTION:
URL:https://chugach.uat.nmu.digital/event/wht-nieuw-amsterdam-4/
END:VEVENT
BEGIN:VEVENT
DTSTART;TZID=UTC:20250721T050000
DTEND;TZID=UTC:20250721T190000
DTSTAMP:20260422T224318
CREATED:20250806T175642Z
LAST-MODIFIED:20250826T023006Z
UID:910-1753074000-1753124400@chugach.uat.nmu.digital
SUMMARY:NORWEGIAN JADE
DESCRIPTION:
URL:https://chugach.uat.nmu.digital/event/wht-norwegian-jade-6/
END:VEVENT
BEGIN:VEVENT
DTSTART;TZID=UTC:20250726T003000
DTEND;TZID=UTC:20250726T203000
DTSTAMP:20260422T224318
CREATED:20250806T175642Z
LAST-MODIFIED:20250826T023006Z
UID:911-1753489800-1753561800@chugach.uat.nmu.digital
SUMMARY:CARIBBEAN PRINCESS
DESCRIPTION:
URL:https://chugach.uat.nmu.digital/event/wht-caribbean-princess-5/
END:VEVENT
BEGIN:VEVENT
DTSTART;TZID=UTC:20250727T010000
DTEND;TZID=UTC:20250727T193000
DTSTAMP:20260422T224318
CREATED:20250806T175642Z
LAST-MODIFIED:20250826T023007Z
UID:912-1753578000-1753644600@chugach.uat.nmu.digital
SUMMARY:NOORDAM
DESCRIPTION:
URL:https://chugach.uat.nmu.digital/event/wht-noordam-5/
END:VEVENT
BEGIN:VEVENT
DTSTART;TZID=UTC:20250730T003000
DTEND;TZID=UTC:20250730T203000
DTSTAMP:20260422T224318
CREATED:20250806T175649Z
LAST-MODIFIED:20250826T023018Z
UID:913-1753835400-1753907400@chugach.uat.nmu.digital
SUMMARY:CORAL PRINCESS
DESCRIPTION:
URL:https://chugach.uat.nmu.digital/event/wht-coral-princess-6/
END:VEVENT
BEGIN:VEVENT
DTSTART;TZID=UTC:20250730T060000
DTEND;TZID=UTC:20250730T170000
DTSTAMP:20260422T224318
CREATED:20250806T175649Z
LAST-MODIFIED:20250826T023019Z
UID:914-1753855200-1753894800@chugach.uat.nmu.digital
SUMMARY:SEVEN SEAS EXPLORER
DESCRIPTION:
URL:https://chugach.uat.nmu.digital/event/wht-seven-seas-explorer-7/
END:VEVENT
END:VCALENDAR