BEGIN:VCALENDAR
VERSION:2.0
PRODID:-//Chugach - ECPv6.14.2//NONSGML v1.0//EN
CALSCALE:GREGORIAN
METHOD:PUBLISH
X-WR-CALNAME:Chugach
X-ORIGINAL-URL:https://chugach.uat.nmu.digital
X-WR-CALDESC:Events for Chugach
REFRESH-INTERVAL;VALUE=DURATION:PT1H
X-Robots-Tag:noindex
X-PUBLISHED-TTL:PT1H
BEGIN:VTIMEZONE
TZID:UTC
BEGIN:STANDARD
TZOFFSETFROM:+0000
TZOFFSETTO:+0000
TZNAME:UTC
DTSTART:20250101T000000
END:STANDARD
END:VTIMEZONE
BEGIN:VEVENT
DTSTART;TZID=UTC:20250802T003000
DTEND;TZID=UTC:20250802T203000
DTSTAMP:20260422T205218
CREATED:20250806T175649Z
LAST-MODIFIED:20250826T023019Z
UID:915-1754094600-1754166600@chugach.uat.nmu.digital
SUMMARY:SAPPHIRE PRINCESS
DESCRIPTION:
URL:https://chugach.uat.nmu.digital/event/wht-sapphire-princess-6/
END:VEVENT
BEGIN:VEVENT
DTSTART;TZID=UTC:20250803T010000
DTEND;TZID=UTC:20250803T193000
DTSTAMP:20260422T205218
CREATED:20250806T175649Z
LAST-MODIFIED:20250826T023020Z
UID:916-1754182800-1754249400@chugach.uat.nmu.digital
SUMMARY:NIEUW AMSTERDAM
DESCRIPTION:
URL:https://chugach.uat.nmu.digital/event/wht-nieuw-amsterdam-5/
END:VEVENT
BEGIN:VEVENT
DTSTART;TZID=UTC:20250804T050000
DTEND;TZID=UTC:20250804T190000
DTSTAMP:20260422T205218
CREATED:20250806T175649Z
LAST-MODIFIED:20250826T023021Z
UID:917-1754283600-1754334000@chugach.uat.nmu.digital
SUMMARY:NORWEGIAN JADE
DESCRIPTION:
URL:https://chugach.uat.nmu.digital/event/wht-norwegian-jade-7/
END:VEVENT
BEGIN:VEVENT
DTSTART;TZID=UTC:20250809T003000
DTEND;TZID=UTC:20250809T203000
DTSTAMP:20260422T205218
CREATED:20250806T175704Z
LAST-MODIFIED:20250826T023033Z
UID:918-1754699400-1754771400@chugach.uat.nmu.digital
SUMMARY:CARIBBEAN PRINCESS
DESCRIPTION:
URL:https://chugach.uat.nmu.digital/event/wht-caribbean-princess-6/
END:VEVENT
BEGIN:VEVENT
DTSTART;TZID=UTC:20250810T010000
DTEND;TZID=UTC:20250810T193000
DTSTAMP:20260422T205218
CREATED:20250806T175704Z
LAST-MODIFIED:20250826T023034Z
UID:919-1754787600-1754854200@chugach.uat.nmu.digital
SUMMARY:NOORDAM
DESCRIPTION:
URL:https://chugach.uat.nmu.digital/event/wht-noordam-6/
END:VEVENT
BEGIN:VEVENT
DTSTART;TZID=UTC:20250813T003000
DTEND;TZID=UTC:20250813T203000
DTSTAMP:20260422T205218
CREATED:20250806T175704Z
LAST-MODIFIED:20250826T023034Z
UID:920-1755045000-1755117000@chugach.uat.nmu.digital
SUMMARY:CORAL PRINCESS
DESCRIPTION:
URL:https://chugach.uat.nmu.digital/event/wht-coral-princess-7/
END:VEVENT
BEGIN:VEVENT
DTSTART;TZID=UTC:20250813T060000
DTEND;TZID=UTC:20250813T170000
DTSTAMP:20260422T205218
CREATED:20250806T175704Z
LAST-MODIFIED:20250826T023035Z
UID:921-1755064800-1755104400@chugach.uat.nmu.digital
SUMMARY:SEVEN SEAS EXPLORER
DESCRIPTION:
URL:https://chugach.uat.nmu.digital/event/wht-seven-seas-explorer-8/
END:VEVENT
BEGIN:VEVENT
DTSTART;TZID=UTC:20250816T003000
DTEND;TZID=UTC:20250816T203000
DTSTAMP:20260422T205218
CREATED:20250806T175704Z
LAST-MODIFIED:20250826T023035Z
UID:922-1755304200-1755376200@chugach.uat.nmu.digital
SUMMARY:SAPPHIRE PRINCESS
DESCRIPTION:
URL:https://chugach.uat.nmu.digital/event/wht-sapphire-princess-7/
END:VEVENT
BEGIN:VEVENT
DTSTART;TZID=UTC:20250817T010000
DTEND;TZID=UTC:20250817T193000
DTSTAMP:20260422T205218
CREATED:20250806T175725Z
LAST-MODIFIED:20250826T023048Z
UID:923-1755392400-1755459000@chugach.uat.nmu.digital
SUMMARY:NIEUW AMSTERDAM
DESCRIPTION:
URL:https://chugach.uat.nmu.digital/event/wht-nieuw-amsterdam-6/
END:VEVENT
BEGIN:VEVENT
DTSTART;TZID=UTC:20250818T050000
DTEND;TZID=UTC:20250818T190000
DTSTAMP:20260422T205218
CREATED:20250806T175725Z
LAST-MODIFIED:20250826T023049Z
UID:924-1755493200-1755543600@chugach.uat.nmu.digital
SUMMARY:NORWEGIAN JADE
DESCRIPTION:
URL:https://chugach.uat.nmu.digital/event/wht-norwegian-jade-8/
END:VEVENT
BEGIN:VEVENT
DTSTART;TZID=UTC:20250823T003000
DTEND;TZID=UTC:20250823T203000
DTSTAMP:20260422T205218
CREATED:20250806T175726Z
LAST-MODIFIED:20250826T023049Z
UID:925-1755909000-1755981000@chugach.uat.nmu.digital
SUMMARY:CARIBBEAN PRINCESS
DESCRIPTION:
URL:https://chugach.uat.nmu.digital/event/wht-caribbean-princess-7/
END:VEVENT
BEGIN:VEVENT
DTSTART;TZID=UTC:20250824T010000
DTEND;TZID=UTC:20250824T193000
DTSTAMP:20260422T205218
CREATED:20250806T175726Z
LAST-MODIFIED:20250826T023050Z
UID:926-1755997200-1756063800@chugach.uat.nmu.digital
SUMMARY:NOORDAM
DESCRIPTION:
URL:https://chugach.uat.nmu.digital/event/wht-noordam-7/
END:VEVENT
BEGIN:VEVENT
DTSTART;TZID=UTC:20250827T003000
DTEND;TZID=UTC:20250827T203000
DTSTAMP:20260422T205218
CREATED:20250806T175726Z
LAST-MODIFIED:20250826T023051Z
UID:927-1756254600-1756326600@chugach.uat.nmu.digital
SUMMARY:CORAL PRINCESS
DESCRIPTION:
URL:https://chugach.uat.nmu.digital/event/wht-coral-princess-8/
END:VEVENT
BEGIN:VEVENT
DTSTART;TZID=UTC:20250827T060000
DTEND;TZID=UTC:20250827T170000
DTSTAMP:20260422T205218
CREATED:20250806T175740Z
LAST-MODIFIED:20250826T023103Z
UID:928-1756274400-1756314000@chugach.uat.nmu.digital
SUMMARY:SEVEN SEAS EXPLORER
DESCRIPTION:
URL:https://chugach.uat.nmu.digital/event/wht-seven-seas-explorer-9/
END:VEVENT
BEGIN:VEVENT
DTSTART;TZID=UTC:20250830T003000
DTEND;TZID=UTC:20250830T203000
DTSTAMP:20260422T205218
CREATED:20250806T175740Z
LAST-MODIFIED:20250826T023104Z
UID:929-1756513800-1756585800@chugach.uat.nmu.digital
SUMMARY:SAPPHIRE PRINCESS
DESCRIPTION:
URL:https://chugach.uat.nmu.digital/event/wht-sapphire-princess-8/
END:VEVENT
END:VCALENDAR