BEGIN:VCALENDAR
VERSION:2.0
PRODID:-//Chugach - ECPv6.14.2//NONSGML v1.0//EN
CALSCALE:GREGORIAN
METHOD:PUBLISH
X-ORIGINAL-URL:https://chugach.uat.nmu.digital
X-WR-CALDESC:Events for Chugach
REFRESH-INTERVAL;VALUE=DURATION:PT1H
X-Robots-Tag:noindex
X-PUBLISHED-TTL:PT1H
BEGIN:VTIMEZONE
TZID:UTC
BEGIN:STANDARD
TZOFFSETFROM:+0000
TZOFFSETTO:+0000
TZNAME:UTC
DTSTART:20250101T000000
END:STANDARD
END:VTIMEZONE
BEGIN:VEVENT
DTSTART;TZID=UTC:20250901T010000
DTEND;TZID=UTC:20250901T193000
DTSTAMP:20260422T193625
CREATED:20250826T023104Z
LAST-MODIFIED:20250826T023104Z
UID:1373-1756688400-1756755000@chugach.uat.nmu.digital
SUMMARY:NIEUW AMSTERDAM
DESCRIPTION:
URL:https://chugach.uat.nmu.digital/event/nieuw-amsterdam-5/
END:VEVENT
BEGIN:VEVENT
DTSTART;TZID=UTC:20250901T050000
DTEND;TZID=UTC:20250901T190000
DTSTAMP:20260422T193625
CREATED:20250806T175740Z
LAST-MODIFIED:20250826T023105Z
UID:931-1756702800-1756753200@chugach.uat.nmu.digital
SUMMARY:NORWEGIAN JADE
DESCRIPTION:
URL:https://chugach.uat.nmu.digital/event/wht-norwegian-jade-9/
END:VEVENT
BEGIN:VEVENT
DTSTART;TZID=UTC:20250906T003000
DTEND;TZID=UTC:20250906T203000
DTSTAMP:20260422T193625
CREATED:20250806T175741Z
LAST-MODIFIED:20250826T023106Z
UID:932-1757118600-1757190600@chugach.uat.nmu.digital
SUMMARY:CARIBBEAN PRINCESS
DESCRIPTION:
URL:https://chugach.uat.nmu.digital/event/wht-caribbean-princess-8/
END:VEVENT
BEGIN:VEVENT
DTSTART;TZID=UTC:20250907T010000
DTEND;TZID=UTC:20250907T193000
DTSTAMP:20260422T193625
CREATED:20250806T175843Z
LAST-MODIFIED:20250826T023118Z
UID:933-1757206800-1757273400@chugach.uat.nmu.digital
SUMMARY:NOORDAM
DESCRIPTION:
URL:https://chugach.uat.nmu.digital/event/wht-noordam-8/
END:VEVENT
BEGIN:VEVENT
DTSTART;TZID=UTC:20250910T003000
DTEND;TZID=UTC:20250910T203000
DTSTAMP:20260422T193625
CREATED:20250806T175843Z
LAST-MODIFIED:20250826T023119Z
UID:934-1757464200-1757536200@chugach.uat.nmu.digital
SUMMARY:CORAL PRINCESS
DESCRIPTION:
URL:https://chugach.uat.nmu.digital/event/wht-coral-princess-9/
END:VEVENT
BEGIN:VEVENT
DTSTART;TZID=UTC:20250910T060000
DTEND;TZID=UTC:20250910T170000
DTSTAMP:20260422T193625
CREATED:20250806T175843Z
LAST-MODIFIED:20250826T023119Z
UID:935-1757484000-1757523600@chugach.uat.nmu.digital
SUMMARY:SEVEN SEAS EXPLORER
DESCRIPTION:
URL:https://chugach.uat.nmu.digital/event/wht-seven-seas-explorer-10/
END:VEVENT
BEGIN:VEVENT
DTSTART;TZID=UTC:20250913T003000
DTEND;TZID=UTC:20250913T203000
DTSTAMP:20260422T193625
CREATED:20250806T175843Z
LAST-MODIFIED:20250826T023120Z
UID:936-1757723400-1757795400@chugach.uat.nmu.digital
SUMMARY:SAPPHIRE PRINCESS
DESCRIPTION:
URL:https://chugach.uat.nmu.digital/event/wht-sapphire-princess-9/
END:VEVENT
BEGIN:VEVENT
DTSTART;TZID=UTC:20250914T010000
DTEND;TZID=UTC:20250914T193000
DTSTAMP:20260422T193625
CREATED:20250806T175843Z
LAST-MODIFIED:20250826T023121Z
UID:937-1757811600-1757878200@chugach.uat.nmu.digital
SUMMARY:NIEUW AMSTERDAM
DESCRIPTION:
URL:https://chugach.uat.nmu.digital/event/wht-nieuw-amsterdam-8/
END:VEVENT
BEGIN:VEVENT
DTSTART;TZID=UTC:20250922T070000
DTEND;TZID=UTC:20250922T150000
DTSTAMP:20260422T193625
CREATED:20250806T175922Z
LAST-MODIFIED:20250826T023133Z
UID:938-1758524400-1758553200@chugach.uat.nmu.digital
SUMMARY:SEVEN SEAS EXPLORER
DESCRIPTION:
URL:https://chugach.uat.nmu.digital/event/wht-seven-seas-explorer-11/
END:VEVENT
BEGIN:VEVENT
DTSTART;TZID=UTC:20250924T070000
DTEND;TZID=UTC:20250924T150000
DTSTAMP:20260422T193625
CREATED:20250806T175922Z
LAST-MODIFIED:20250826T023134Z
UID:939-1758697200-1758726000@chugach.uat.nmu.digital
SUMMARY:RIVIERA
DESCRIPTION:
URL:https://chugach.uat.nmu.digital/event/wht-riviera-4/
END:VEVENT
BEGIN:VEVENT
DTSTART;TZID=UTC:20250929T050000
DTEND;TZID=UTC:20250929T190000
DTSTAMP:20260422T193625
CREATED:20250806T175922Z
LAST-MODIFIED:20250826T023134Z
UID:940-1759122000-1759172400@chugach.uat.nmu.digital
SUMMARY:NORWEGIAN JADE
DESCRIPTION:
URL:https://chugach.uat.nmu.digital/event/wht-norwegian-jade-10/
END:VEVENT
END:VCALENDAR