BEGIN:VCALENDAR
VERSION:2.0
PRODID:-//Chugach - ECPv6.14.2//NONSGML v1.0//EN
CALSCALE:GREGORIAN
METHOD:PUBLISH
X-WR-CALNAME:Chugach
X-ORIGINAL-URL:https://chugach.uat.nmu.digital
X-WR-CALDESC:Events for Chugach
REFRESH-INTERVAL;VALUE=DURATION:PT1H
X-Robots-Tag:noindex
X-PUBLISHED-TTL:PT1H
BEGIN:VTIMEZONE
TZID:UTC
BEGIN:STANDARD
TZOFFSETFROM:+0000
TZOFFSETTO:+0000
TZNAME:UTC
DTSTART:20260101T000000
END:STANDARD
END:VTIMEZONE
BEGIN:VEVENT
DTSTART;TZID=UTC:20260207T060000
DTEND;TZID=UTC:20260207T180000
DTSTAMP:20260422T115251
CREATED:20251120T193518Z
LAST-MODIFIED:20251120T193518Z
UID:1399-1770444000-1770487200@chugach.uat.nmu.digital
SUMMARY:AZAMARA PURSUIT
DESCRIPTION:
URL:https://chugach.uat.nmu.digital/event/azamara-pursuit-3/
END:VEVENT
BEGIN:VEVENT
DTSTART;TZID=UTC:20260209T060000
DTEND;TZID=UTC:20260209T190000
DTSTAMP:20260422T115251
CREATED:20251120T193608Z
LAST-MODIFIED:20251120T193608Z
UID:1410-1770616800-1770663600@chugach.uat.nmu.digital
SUMMARY:SEVEN SEAS EXPLORER
DESCRIPTION:
URL:https://chugach.uat.nmu.digital/event/seven-seas-explorer-10/
END:VEVENT
END:VCALENDAR