BEGIN:VCALENDAR
VERSION:2.0
PRODID:-//Chugach - ECPv6.14.2//NONSGML v1.0//EN
CALSCALE:GREGORIAN
METHOD:PUBLISH
X-ORIGINAL-URL:https://chugach.uat.nmu.digital
X-WR-CALDESC:Events for Chugach
REFRESH-INTERVAL;VALUE=DURATION:PT1H
X-Robots-Tag:noindex
X-PUBLISHED-TTL:PT1H
BEGIN:VTIMEZONE
TZID:UTC
BEGIN:STANDARD
TZOFFSETFROM:+0000
TZOFFSETTO:+0000
TZNAME:UTC
DTSTART:20260101T000000
END:STANDARD
END:VTIMEZONE
BEGIN:VEVENT
DTSTART;TZID=UTC:20260603T003000
DTEND;TZID=UTC:20260603T003000
DTSTAMP:20260422T115250
CREATED:20250806T180321Z
LAST-MODIFIED:20250806T180321Z
UID:965-1780446600-1780446600@chugach.uat.nmu.digital
SUMMARY:ISLAND PRINCESS
DESCRIPTION:
URL:https://chugach.uat.nmu.digital/event/wht-island-princess-2/
END:VEVENT
BEGIN:VEVENT
DTSTART;TZID=UTC:20260606T003000
DTEND;TZID=UTC:20260606T003000
DTSTAMP:20260422T115250
CREATED:20250806T180321Z
LAST-MODIFIED:20250806T180321Z
UID:966-1780705800-1780705800@chugach.uat.nmu.digital
SUMMARY:GRAND PRINCESS
DESCRIPTION:
URL:https://chugach.uat.nmu.digital/event/wht-grand-princess-2/
END:VEVENT
BEGIN:VEVENT
DTSTART;TZID=UTC:20260607T010000
DTEND;TZID=UTC:20260607T010000
DTSTAMP:20260422T115250
CREATED:20250806T180321Z
LAST-MODIFIED:20250806T180321Z
UID:967-1780794000-1780794000@chugach.uat.nmu.digital
SUMMARY:NIEUW AMSTERDAM
DESCRIPTION:
URL:https://chugach.uat.nmu.digital/event/wht-nieuw-amsterdam-10/
END:VEVENT
BEGIN:VEVENT
DTSTART;TZID=UTC:20260607T050000
DTEND;TZID=UTC:20260607T200000
DTSTAMP:20260422T115250
CREATED:20251120T193519Z
LAST-MODIFIED:20251120T193519Z
UID:1400-1780808400-1780862400@chugach.uat.nmu.digital
SUMMARY:NORWEGIAN JADE
DESCRIPTION:
URL:https://chugach.uat.nmu.digital/event/norwegian-jade-8/
END:VEVENT
BEGIN:VEVENT
DTSTART;TZID=UTC:20260608T050000
DTEND;TZID=UTC:20260608T050000
DTSTAMP:20260422T115250
CREATED:20250806T180321Z
LAST-MODIFIED:20250806T180321Z
UID:968-1780894800-1780894800@chugach.uat.nmu.digital
SUMMARY:NORWEGIAN JADE
DESCRIPTION:
URL:https://chugach.uat.nmu.digital/event/wht-norwegian-jade-13/
END:VEVENT
BEGIN:VEVENT
DTSTART;TZID=UTC:20260608T070000
DTEND;TZID=UTC:20260608T170000
DTSTAMP:20260422T115250
CREATED:20251120T193553Z
LAST-MODIFIED:20251120T193553Z
UID:1409-1780902000-1780938000@chugach.uat.nmu.digital
SUMMARY:LUMINARA
DESCRIPTION:
URL:https://chugach.uat.nmu.digital/event/luminara-2/
END:VEVENT
BEGIN:VEVENT
DTSTART;TZID=UTC:20260610T003000
DTEND;TZID=UTC:20260610T003000
DTSTAMP:20260422T115250
CREATED:20250806T180335Z
LAST-MODIFIED:20250806T180335Z
UID:969-1781051400-1781051400@chugach.uat.nmu.digital
SUMMARY:CORAL PRINCESS
DESCRIPTION:
URL:https://chugach.uat.nmu.digital/event/wht-coral-princess-12/
END:VEVENT
BEGIN:VEVENT
DTSTART;TZID=UTC:20260610T060000
DTEND;TZID=UTC:20260610T060000
DTSTAMP:20260422T115250
CREATED:20250806T180336Z
LAST-MODIFIED:20250806T180336Z
UID:970-1781071200-1781071200@chugach.uat.nmu.digital
SUMMARY:SEVEN SEAS EXPLORER
DESCRIPTION:
URL:https://chugach.uat.nmu.digital/event/wht-seven-seas-explorer-14/
END:VEVENT
BEGIN:VEVENT
DTSTART;TZID=UTC:20260611T060000
DTEND;TZID=UTC:20260611T060000
DTSTAMP:20260422T115250
CREATED:20250806T180336Z
LAST-MODIFIED:20250806T180336Z
UID:971-1781157600-1781157600@chugach.uat.nmu.digital
SUMMARY:AZAMARA PURSUIT
DESCRIPTION:
URL:https://chugach.uat.nmu.digital/event/wht-azamara-pursuit-2/
END:VEVENT
BEGIN:VEVENT
DTSTART;TZID=UTC:20260613T003000
DTEND;TZID=UTC:20260613T003000
DTSTAMP:20260422T115250
CREATED:20250806T180336Z
LAST-MODIFIED:20250806T180336Z
UID:972-1781310600-1781310600@chugach.uat.nmu.digital
SUMMARY:DISCOVERY PRINCESS
DESCRIPTION:
URL:https://chugach.uat.nmu.digital/event/wht-discovery-princess-4/
END:VEVENT
BEGIN:VEVENT
DTSTART;TZID=UTC:20260621T010000
DTEND;TZID=UTC:20260621T010000
DTSTAMP:20260422T115250
CREATED:20250806T180336Z
LAST-MODIFIED:20250806T180336Z
UID:973-1782003600-1782003600@chugach.uat.nmu.digital
SUMMARY:NIEUW AMSTERDAM
DESCRIPTION:
URL:https://chugach.uat.nmu.digital/event/wht-nieuw-amsterdam-11/
END:VEVENT
BEGIN:VEVENT
DTSTART;TZID=UTC:20260622T050000
DTEND;TZID=UTC:20260622T050000
DTSTAMP:20260422T115250
CREATED:20250806T180422Z
LAST-MODIFIED:20250806T180422Z
UID:974-1782104400-1782104400@chugach.uat.nmu.digital
SUMMARY:NORWEGIAN JADE
DESCRIPTION:
URL:https://chugach.uat.nmu.digital/event/wht-norwegian-jade-14/
END:VEVENT
BEGIN:VEVENT
DTSTART;TZID=UTC:20260624T003000
DTEND;TZID=UTC:20260624T003000
DTSTAMP:20260422T115250
CREATED:20250806T180422Z
LAST-MODIFIED:20250806T180422Z
UID:975-1782261000-1782261000@chugach.uat.nmu.digital
SUMMARY:CORAL PRINCESS
DESCRIPTION:
URL:https://chugach.uat.nmu.digital/event/wht-coral-princess-13/
END:VEVENT
BEGIN:VEVENT
DTSTART;TZID=UTC:20260624T060000
DTEND;TZID=UTC:20260624T060000
DTSTAMP:20260422T115250
CREATED:20250806T180422Z
LAST-MODIFIED:20250806T180422Z
UID:976-1782280800-1782280800@chugach.uat.nmu.digital
SUMMARY:SEVEN SEAS EXPLORER
DESCRIPTION:
URL:https://chugach.uat.nmu.digital/event/wht-seven-seas-explorer-15/
END:VEVENT
BEGIN:VEVENT
DTSTART;TZID=UTC:20260627T003000
DTEND;TZID=UTC:20260627T003000
DTSTAMP:20260422T115250
CREATED:20250806T180422Z
LAST-MODIFIED:20250806T180422Z
UID:977-1782520200-1782520200@chugach.uat.nmu.digital
SUMMARY:DISCOVERY PRINCESS
DESCRIPTION:
URL:https://chugach.uat.nmu.digital/event/wht-discovery-princess-5/
END:VEVENT
BEGIN:VEVENT
DTSTART;TZID=UTC:20260628T010000
DTEND;TZID=UTC:20260628T010000
DTSTAMP:20260422T115250
CREATED:20250806T180422Z
LAST-MODIFIED:20250806T180422Z
UID:978-1782608400-1782608400@chugach.uat.nmu.digital
SUMMARY:WESTERDAM
DESCRIPTION:
URL:https://chugach.uat.nmu.digital/event/wht-westerdam-3/
END:VEVENT
END:VCALENDAR