BEGIN:VCALENDAR
VERSION:2.0
PRODID:-//Chugach - ECPv6.14.2//NONSGML v1.0//EN
CALSCALE:GREGORIAN
METHOD:PUBLISH
X-ORIGINAL-URL:https://chugach.uat.nmu.digital
X-WR-CALDESC:Events for Chugach
REFRESH-INTERVAL;VALUE=DURATION:PT1H
X-Robots-Tag:noindex
X-PUBLISHED-TTL:PT1H
BEGIN:VTIMEZONE
TZID:UTC
BEGIN:STANDARD
TZOFFSETFROM:+0000
TZOFFSETTO:+0000
TZNAME:UTC
DTSTART:20260101T000000
END:STANDARD
END:VTIMEZONE
BEGIN:VEVENT
DTSTART;TZID=UTC:20260701T003000
DTEND;TZID=UTC:20260701T003000
DTSTAMP:20260422T131818
CREATED:20250806T180438Z
LAST-MODIFIED:20250806T180438Z
UID:979-1782865800-1782865800@chugach.uat.nmu.digital
SUMMARY:ISLAND PRINCESS
DESCRIPTION:
URL:https://chugach.uat.nmu.digital/event/wht-island-princess-3/
END:VEVENT
BEGIN:VEVENT
DTSTART;TZID=UTC:20260702T060000
DTEND;TZID=UTC:20260702T060000
DTSTAMP:20260422T131818
CREATED:20250806T180438Z
LAST-MODIFIED:20250806T180438Z
UID:980-1782972000-1782972000@chugach.uat.nmu.digital
SUMMARY:AZAMARA PURSUIT
DESCRIPTION:
URL:https://chugach.uat.nmu.digital/event/wht-azamara-pursuit-3/
END:VEVENT
BEGIN:VEVENT
DTSTART;TZID=UTC:20260704T003000
DTEND;TZID=UTC:20260704T003000
DTSTAMP:20260422T131818
CREATED:20250806T180438Z
LAST-MODIFIED:20250806T180438Z
UID:981-1783125000-1783125000@chugach.uat.nmu.digital
SUMMARY:GRAND PRINCESS
DESCRIPTION:
URL:https://chugach.uat.nmu.digital/event/wht-grand-princess-3/
END:VEVENT
BEGIN:VEVENT
DTSTART;TZID=UTC:20260705T010000
DTEND;TZID=UTC:20260705T010000
DTSTAMP:20260422T131818
CREATED:20250806T180438Z
LAST-MODIFIED:20250806T180438Z
UID:982-1783213200-1783213200@chugach.uat.nmu.digital
SUMMARY:NIEUW AMSTERDAM
DESCRIPTION:
URL:https://chugach.uat.nmu.digital/event/wht-nieuw-amsterdam-12/
END:VEVENT
BEGIN:VEVENT
DTSTART;TZID=UTC:20260706T050000
DTEND;TZID=UTC:20260706T050000
DTSTAMP:20260422T131818
CREATED:20250806T180438Z
LAST-MODIFIED:20250806T180438Z
UID:983-1783314000-1783314000@chugach.uat.nmu.digital
SUMMARY:NORWEGIAN JADE
DESCRIPTION:
URL:https://chugach.uat.nmu.digital/event/wht-norwegian-jade-15/
END:VEVENT
BEGIN:VEVENT
DTSTART;TZID=UTC:20260708T003000
DTEND;TZID=UTC:20260708T003000
DTSTAMP:20260422T131818
CREATED:20250806T180506Z
LAST-MODIFIED:20250806T180506Z
UID:984-1783470600-1783470600@chugach.uat.nmu.digital
SUMMARY:CORAL PRINCESS
DESCRIPTION:
URL:https://chugach.uat.nmu.digital/event/wht-coral-princess-14/
END:VEVENT
BEGIN:VEVENT
DTSTART;TZID=UTC:20260708T060000
DTEND;TZID=UTC:20260708T060000
DTSTAMP:20260422T131818
CREATED:20250806T180506Z
LAST-MODIFIED:20250806T180506Z
UID:985-1783490400-1783490400@chugach.uat.nmu.digital
SUMMARY:SEVEN SEAS EXPLORER
DESCRIPTION:
URL:https://chugach.uat.nmu.digital/event/wht-seven-seas-explorer-16/
END:VEVENT
BEGIN:VEVENT
DTSTART;TZID=UTC:20260711T003000
DTEND;TZID=UTC:20260711T003000
DTSTAMP:20260422T131818
CREATED:20250806T180506Z
LAST-MODIFIED:20250806T180506Z
UID:986-1783729800-1783729800@chugach.uat.nmu.digital
SUMMARY:DISCOVERY PRINCESS
DESCRIPTION:
URL:https://chugach.uat.nmu.digital/event/wht-discovery-princess-6/
END:VEVENT
BEGIN:VEVENT
DTSTART;TZID=UTC:20260712T010000
DTEND;TZID=UTC:20260712T010000
DTSTAMP:20260422T131818
CREATED:20250806T180506Z
LAST-MODIFIED:20250806T180506Z
UID:987-1783818000-1783818000@chugach.uat.nmu.digital
SUMMARY:WESTERDAM
DESCRIPTION:
URL:https://chugach.uat.nmu.digital/event/wht-westerdam-4/
END:VEVENT
BEGIN:VEVENT
DTSTART;TZID=UTC:20260715T003000
DTEND;TZID=UTC:20260715T003000
DTSTAMP:20260422T131818
CREATED:20250806T180506Z
LAST-MODIFIED:20250806T180506Z
UID:988-1784075400-1784075400@chugach.uat.nmu.digital
SUMMARY:ISLAND PRINCESS
DESCRIPTION:
URL:https://chugach.uat.nmu.digital/event/wht-island-princess-4/
END:VEVENT
BEGIN:VEVENT
DTSTART;TZID=UTC:20260718T003000
DTEND;TZID=UTC:20260718T003000
DTSTAMP:20260422T131818
CREATED:20250806T180521Z
LAST-MODIFIED:20250806T180521Z
UID:989-1784334600-1784334600@chugach.uat.nmu.digital
SUMMARY:GRAND PRINCESS
DESCRIPTION:
URL:https://chugach.uat.nmu.digital/event/wht-grand-princess-4/
END:VEVENT
BEGIN:VEVENT
DTSTART;TZID=UTC:20260719T010000
DTEND;TZID=UTC:20260719T010000
DTSTAMP:20260422T131818
CREATED:20250806T180521Z
LAST-MODIFIED:20250806T180521Z
UID:990-1784422800-1784422800@chugach.uat.nmu.digital
SUMMARY:NIEUW AMSTERDAM
DESCRIPTION:
URL:https://chugach.uat.nmu.digital/event/wht-nieuw-amsterdam-13/
END:VEVENT
BEGIN:VEVENT
DTSTART;TZID=UTC:20260720T050000
DTEND;TZID=UTC:20260720T050000
DTSTAMP:20260422T131818
CREATED:20250806T180521Z
LAST-MODIFIED:20250806T180521Z
UID:991-1784523600-1784523600@chugach.uat.nmu.digital
SUMMARY:NORWEGIAN JADE
DESCRIPTION:
URL:https://chugach.uat.nmu.digital/event/wht-norwegian-jade-16/
END:VEVENT
BEGIN:VEVENT
DTSTART;TZID=UTC:20260722T000600
DTEND;TZID=UTC:20260722T000600
DTSTAMP:20260422T131818
CREATED:20250806T180522Z
LAST-MODIFIED:20250806T180522Z
UID:993-1784678760-1784678760@chugach.uat.nmu.digital
SUMMARY:SEVEN SEAS EXPLORER
DESCRIPTION:
URL:https://chugach.uat.nmu.digital/event/wht-seven-seas-explorer-17/
END:VEVENT
BEGIN:VEVENT
DTSTART;TZID=UTC:20260722T003000
DTEND;TZID=UTC:20260722T003000
DTSTAMP:20260422T131818
CREATED:20250806T180521Z
LAST-MODIFIED:20250806T180521Z
UID:992-1784680200-1784680200@chugach.uat.nmu.digital
SUMMARY:CORAL PRINCESS
DESCRIPTION:
URL:https://chugach.uat.nmu.digital/event/wht-coral-princess-15/
END:VEVENT
BEGIN:VEVENT
DTSTART;TZID=UTC:20260723T060000
DTEND;TZID=UTC:20260723T060000
DTSTAMP:20260422T131818
CREATED:20250806T180536Z
LAST-MODIFIED:20250806T180536Z
UID:994-1784786400-1784786400@chugach.uat.nmu.digital
SUMMARY:AZAMARA PURSUIT
DESCRIPTION:
URL:https://chugach.uat.nmu.digital/event/wht-azamara-pursuit-4/
END:VEVENT
BEGIN:VEVENT
DTSTART;TZID=UTC:20260725T003000
DTEND;TZID=UTC:20260725T003000
DTSTAMP:20260422T131818
CREATED:20250806T180536Z
LAST-MODIFIED:20250806T180536Z
UID:995-1784939400-1784939400@chugach.uat.nmu.digital
SUMMARY:DISCOVERY PRINCESS
DESCRIPTION:
URL:https://chugach.uat.nmu.digital/event/wht-discovery-princess-7/
END:VEVENT
BEGIN:VEVENT
DTSTART;TZID=UTC:20260726T010000
DTEND;TZID=UTC:20260726T010000
DTSTAMP:20260422T131818
CREATED:20250806T180536Z
LAST-MODIFIED:20250806T180536Z
UID:996-1785027600-1785027600@chugach.uat.nmu.digital
SUMMARY:WESTERDAM
DESCRIPTION:
URL:https://chugach.uat.nmu.digital/event/wht-westerdam-5/
END:VEVENT
BEGIN:VEVENT
DTSTART;TZID=UTC:20260729T003000
DTEND;TZID=UTC:20260729T003000
DTSTAMP:20260422T131818
CREATED:20250806T180536Z
LAST-MODIFIED:20250806T180536Z
UID:997-1785285000-1785285000@chugach.uat.nmu.digital
SUMMARY:ISLAND PRINCESS
DESCRIPTION:
URL:https://chugach.uat.nmu.digital/event/wht-island-princess-5/
END:VEVENT
END:VCALENDAR